BEGIN:VCALENDAR
VERSION:2.0
PRODID:-//CARF International - ECPv6.15.20//NONSGML v1.0//EN
CALSCALE:GREGORIAN
METHOD:PUBLISH
X-ORIGINAL-URL:https://carf.org
X-WR-CALDESC:Events for CARF International
REFRESH-INTERVAL;VALUE=DURATION:PT1H
X-Robots-Tag:noindex
X-PUBLISHED-TTL:PT1H
BEGIN:VTIMEZONE
TZID:America/Phoenix
BEGIN:STANDARD
TZOFFSETFROM:-0700
TZOFFSETTO:-0700
TZNAME:MST
DTSTART:20250101T000000
END:STANDARD
END:VTIMEZONE
BEGIN:VEVENT
DTSTART;TZID=America/Phoenix:20260514T110000
DTEND;TZID=America/Phoenix:20260514T120000
DTSTAMP:20260423T073330
CREATED:20260421T194151Z
LAST-MODIFIED:20260421T194151Z
UID:10000160-1778756400-1778760000@carf.org
SUMMARY:CARF Webinar: An Introduction to CARF International's Disorders of Consciousness Specialty Program Standards and Accreditation
DESCRIPTION:Live online training – attendance is limited\, register now \n\n\n\n\n\nJoin us for a complimentary webinar to learn more about CARF’s new Disorders of Consciousness Specialty Program standards from Terry Carolan\, MSPT\, CARF’s Managing Director for Medical Rehabilitation and Aging Services. A Disorders of Consciousness (DoC) Specialty Program delivers services that focus on the assessment\, treatment\, and care of individuals with Disorders of Consciousness\, which includes persons entering the program in a coma state\, vegetative or unresponsive wakefulness state\, or minimally conscious state\, and potentially progressing to a post-traumatic or acute confusional state. \n\n\n\n\n\nFamilies/support systems are partners in shared decision-making and receive education and support that allow them to effectively care and advocate for their loved ones\, navigate fluctuations in the clinical status of the persons served\, and balance prognostic uncertainty and hope. Key areas of the standards include evidence-based assessment and treatment using standardized\, validated tools\, providing support and education to families/support systems before\, during and after a length of stay\, advocating with payers\, supporting the well-being of personnel\, acting as a resource to acute care providers\, competency-based training for personnel and navigating ethical concerns and de-escalation of care. \n\n\n\n\n\nTraining materials will be emailed to registrants one week prior to the training date. For more information\, click Register and review the Online Training Information tab. \n\n\n\n\n\nAll presentations and materials are provided in English. \n\n\n\n\n\nRegistration is complimentary.
URL:https://carf.org/training/carf-webinar-intro-disorders-consciousness-specialty-program-standards/
CATEGORIES:Medical Rehabilitation
ATTACH;FMTTYPE=image/jpeg:https://carf.org/wp-content/uploads/2026/02/iStock-1367214513-600x600-1.jpg
END:VEVENT
BEGIN:VEVENT
DTSTART;TZID=America/Phoenix:20260520T090000
DTEND;TZID=America/Phoenix:20260521T163000
DTSTAMP:20260423T073330
CREATED:20260217T164017Z
LAST-MODIFIED:20260407T160139Z
UID:10000156-1779267600-1779381000@carf.org
SUMMARY:CARF Canada Advanced Performance Measurement
DESCRIPTION:This interactive two-day training session takes the mystery out of defining\, measuring\, and reporting the performance of your programs and services. Canada Advanced Performance Measurement is for organizations seeking first-time CARF accreditation or who are already accredited and want to strengthen and enhance their performance measurement and improvement systems. The training is recommended for senior managers\, program managers\, quality improvement coordinators\, and direct service providers who are involved in planning\, monitoring\, analyzing\, or reporting on organizational performance. Advanced Performance Measurement helps organizations apply quantitative and qualitative approaches to the CARF accreditation standards on performance measurement and performance improvement. \n\n\n\n\n\nTraining materials will be emailed to each registrant one week prior to the training event. For more information\, click on the Training Material tab. \n\n\n\n\n\nAll presentations and materials are provided in English. \n\n\n\n\n\nRegister by May 12\, 2026 11:45 p.m. PT
URL:https://carf.org/training/carf-canada-advanced-performance-measurement/
LOCATION:Simon Fraser University\, 515 West Hastings Street\, Vancouver\, British Columbia\, V6B5K3\, Canada
CATEGORIES:Aging,Behavioral Health,Child and Youth,Employment and Community,Medical Rehabilitation,Opioid Treatment,Vision Rehabilitation
ATTACH;FMTTYPE=image/jpeg:https://carf.org/wp-content/uploads/2026/02/iStock-1367214513-600x600-1.jpg
END:VEVENT
BEGIN:VEVENT
DTSTART;TZID=America/Phoenix:20260603T083000
DTEND;TZID=America/Phoenix:20260604T163000
DTSTAMP:20260423T073330
CREATED:20260126T171057Z
LAST-MODIFIED:20260318T165803Z
UID:10000147-1780475400-1780590600@carf.org
SUMMARY:CARF 101: Achieving and Maintaining Accreditation in Child and Youth Services
DESCRIPTION:Registration opens March 13\, 2026. \n\n\n\n\n\nThis two-day in-person session provides a solid foundation for organizations preparing for first-time CARF accreditation and those looking for a refresher. Participants will receive an introduction to CARF’s peer-review approach\, learn how to navigate the standards manual\, and gain valuable insights into the survey process and what to expect.    \n\n\n\n\n\nThe training includes a comprehensive review of the standards that comprise the ASPIRE to Excellence® quality framework\, which reflects a logical and action-oriented approach to support continuous improvement in business management and service delivery; and the Section 2 standards\, which support the active participation of persons served in the planning\, implementation\, and ongoing evaluation of the services offered\, as well as a commitment to quality outcomes. An overview of program standards is also included\, with discussion of practical examples of conformance.  Participants will have the opportunity to hear about examples and best practices for standards implementation\, connect with training faculty one-on-one\, and network and exchange insights with other provider participants.    \n\n\n\n\n\nA standards manual is highly recommended for this training. Event attendees will receive a coupon code for a 15% discount on CARF publications after registering for this event. Please contact your designated resource specialist if you are unsure which standards manual to purchase.  \n\n\n\n\n\nEach registrant will receive training materials and a link to resources and sample documents via email\, one week prior to the training event. For more information\, click on the Training Material tab. \n\n\n\n\n\nAll presentations and materials are provided in English.
URL:https://carf.org/training/carf-101-june-3-achieving-maintaining-accreditation-child-and-youth-services/
LOCATION:Hyatt Regency Columbus\, 350 N High Street\, Columbus\, Ohio\, 43215\, United States
CATEGORIES:Child and Youth
ATTACH;FMTTYPE=image/jpeg:https://carf.org/wp-content/uploads/2026/02/101-graphic-AdobeStock_350968156-600x600-1.jpg
END:VEVENT
BEGIN:VEVENT
DTSTART;TZID=America/Phoenix:20260603T083000
DTEND;TZID=America/Phoenix:20260604T163000
DTSTAMP:20260423T073330
CREATED:20260126T171331Z
LAST-MODIFIED:20260318T165726Z
UID:10000148-1780475400-1780590600@carf.org
SUMMARY:CARF 101: Achieving and Maintaining Accreditation in Employment and Community Services
DESCRIPTION:Registration opens March 13\, 2026. \n\n\n\n\n\nThis two-day in-person session provides a solid foundation for organizations preparing for first-time CARF accreditation and those looking for a refresher. Participants will receive an introduction to CARF’s peer-review approach\, learn how to navigate the standards manual\, and gain valuable insights into the survey process and what to expect. \n\n\n\n\n\nThe training includes a comprehensive review of the standards that comprise the ASPIRE to Excellence® quality framework\, which reflects a logical and action-oriented approach to support continuous improvement in business management and service delivery; and the Section 2 standards\, which support the active participation of persons served in the planning\, implementation\, and ongoing evaluation of the services offered\, as well as a commitment to quality outcomes. An overview of program standards is also included\, with discussion of practical examples of conformance.  Participants will have the opportunity to hear about examples and best practices for standards implementation\, connect with training faculty one-on-one\, and network and exchange insights with other provider participants. \n\n\n\n\n\nA standards manual is highly recommended for this training. Event attendees will receive a coupon code for a 15% discount on CARF publications after registering for this event. Please contact your designated resource specialist if you are unsure which standards manual to purchase.  \n\n\n\n\n\nEach registrant will receive training materials and a link to resources and sample documents via email\, one week prior to the training event. For more information\, click on the Training Material tab. \n\n\n\n\n\nAll presentations and materials are provided in English.
URL:https://carf.org/training/carf-101-june-3-achieving-maintaining-accreditation-employment-community-services/
LOCATION:Hyatt Regency Columbus\, 350 N High Street\, Columbus\, Ohio\, 43215\, United States
CATEGORIES:Employment and Community
ATTACH;FMTTYPE=image/jpeg:https://carf.org/wp-content/uploads/2026/02/101-graphic-AdobeStock_350968156-600x600-1.jpg
END:VEVENT
BEGIN:VEVENT
DTSTART;TZID=America/Phoenix:20260603T083000
DTEND;TZID=America/Phoenix:20260604T163000
DTSTAMP:20260423T073330
CREATED:20260126T171603Z
LAST-MODIFIED:20260317T164951Z
UID:10000149-1780475400-1780590600@carf.org
SUMMARY:CARF 101: Achieving and Maintaining Accreditation in Opioid Treatment Programs
DESCRIPTION:Registration opens March 13\, 2026. \n\n\n\n\n\nThis two-day in-person session provides a solid foundation for organizations preparing for first-time CARF accreditation and those looking for a refresher. Participants will receive an introduction to CARF’s peer-review approach\, learn how to navigate the standards manual\, and gain valuable insights into the survey process and what to expect.    \n\n\n\n\n\nThe training includes a comprehensive review of the standards that comprise the ASPIRE to Excellence® quality framework\, which reflects a logical and action-oriented approach to support continuous improvement in business management and service delivery; and the Section 2 standards\, which support the active participation of persons served in the planning\, implementation\, and ongoing evaluation of the services offered\, as well as a commitment to quality outcomes. An overview of program standards is also included\, with discussion of practical examples of conformance.  Participants will have the opportunity to hear about examples and best practices for standards implementation\, connect with training faculty one-on-one\, and network and exchange insights with other provider participants.    \n\n\n\n\n\nA standards manual is highly recommended for this training. Event attendees will receive a coupon code for a 15% discount on CARF publications after registering for this event. Please contact your designated resource specialist if you are unsure which standards manual to purchase.  \n\n\n\n\n\nEach registrant will receive training materials and a link to resources and sample documents via email\, one week prior to the training event. For more information\, click on the Training Material tab. \n\n\n\n\n\nAll presentations and materials are provided in English.
URL:https://carf.org/training/carf-101-june-3-achieving-maintaining-accreditation-opioid-treatment-programs/
LOCATION:Hyatt Regency Columbus\, 350 N High Street\, Columbus\, Ohio\, 43215\, United States
CATEGORIES:Opioid Treatment
ATTACH;FMTTYPE=image/jpeg:https://carf.org/wp-content/uploads/2026/02/101-graphic-AdobeStock_350968156-600x600-1.jpg
END:VEVENT
BEGIN:VEVENT
DTSTART;TZID=America/Phoenix:20260603T083000
DTEND;TZID=America/Phoenix:20260604T163000
DTSTAMP:20260423T073330
CREATED:20260311T194348Z
LAST-MODIFIED:20260317T165527Z
UID:10000157-1780475400-1780590600@carf.org
SUMMARY:CARF 101: Achieving and Maintaining Accreditation in Behavioral Health
DESCRIPTION:Registration opens March 13\, 2026. \n\n\n\n\n\nThis two-day in-person session provides a solid foundation for organizations preparing for first-time CARF accreditation and those looking for a refresher.  Participants will receive an introduction to CARF’s peer-review approach\, learn how to navigate the standards manual\, and gain valuable insights into the survey process and what to expect.    \n\n\n\n\n\nThe training includes a comprehensive review of the standards that comprise the ASPIRE to Excellence® quality framework\, which reflects a logical and action-oriented approach to support continuous improvement in business management and service delivery; and the Section 2 standards\, which support the active participation of persons served in the planning\, implementation\, and ongoing evaluation of the services offered\, as well as a commitment to quality outcomes. An overview of program standards is also included\, with discussion of practical examples of conformance.  Participants will have the opportunity to hear about examples and best practices for standards implementation\, connect with training faculty one-on-one\, and network and exchange insights with other provider participants.    \n\n\n\n\n\nA standards manual is highly recommended for this training. Event attendees will receive a coupon code for a 15% discount on CARF publications after registering for this event. Please contact your designated resource specialist if you are unsure which standards manual to purchase.  \n\n\n\n\n\nEach registrant will receive training materials and a link to resources and sample documents via email\, one week prior to the training event. For more information\, click on the Training Material tab. \n\n\n\n\n\nAll presentations and materials are provided in English.
URL:https://carf.org/training/carf-101-june-3-achieving-maintaining-accreditation-behavioral-health/
LOCATION:Hyatt Regency Columbus\, 350 N High Street\, Columbus\, Ohio\, 43215\, United States
CATEGORIES:Behavioral Health
ATTACH;FMTTYPE=image/jpeg:https://carf.org/wp-content/uploads/2026/02/101-graphic-AdobeStock_350968156-600x600-1.jpg
END:VEVENT
BEGIN:VEVENT
DTSTART;TZID=America/Phoenix:20260723T083000
DTEND;TZID=America/Phoenix:20260724T163000
DTSTAMP:20260423T073330
CREATED:20260407T161214Z
LAST-MODIFIED:20260407T161216Z
UID:10000159-1784795400-1784910600@carf.org
SUMMARY:CARF 2026: Transforming Outcomes Data into Management Information Institute
DESCRIPTION:This two-day institute guides participants through the steps to plan a program of outcomes management and quality improvement. Participants will learn the foundations of outcomes measurement\, selection of appropriate measures\, strategies for implementing a measurement program\, data analysis techniques\, and action planning. Upon completion\, participants will have the tools to design and implement a performance management system. The Transforming Outcomes institute is appropriate for administrators\, data managers\, directors of quality improvement\, program managers\, information management specialists\, and direct service providers. \n\n\n\n\n\nAll presentations and materials are provided in English. \n\n\n\n\n\n\n\nChanges to $1089.00 after Thursday\, July 9\, 2026.
URL:https://carf.org/training/carf-2026-transforming-outcomes-data-management-information-institute/
LOCATION:Park MGM Las Vegas\, 3770 S Las Vegas Blvd\, Las Vegas\, NV\, 89109\, United States
CATEGORIES:Aging,Behavioral Health,Child and Youth,Employment and Community,Medical Rehabilitation,Opioid Treatment
ATTACH;FMTTYPE=image/jpeg:https://carf.org/wp-content/uploads/2026/02/iStock-1332570157-600x600-1.jpg
END:VEVENT
BEGIN:VEVENT
DTSTART;TZID=America/Phoenix:20261022T083000
DTEND;TZID=America/Phoenix:20261023T163000
DTSTAMP:20260423T073330
CREATED:20260126T172058Z
LAST-MODIFIED:20260211T223427Z
UID:10000150-1792657800-1792773000@carf.org
SUMMARY:CARF 101: Achieving and Maintaining Accreditation in Opioid Treatment Programs
DESCRIPTION:Registration opens June 26\, 2026. \n\n\n\n\n\nThis two-day in-person session provides a solid foundation for organizations preparing for first-time CARF accreditation and those looking for a refresher. Participants will receive an introduction to CARF’s peer-review approach\, learn how to navigate the standards manual\, and gain valuable insights into the survey process and what to expect.    \n\n\n\n\n\nThe training includes a comprehensive review of the standards that comprise the ASPIRE to Excellence® quality framework\, which reflects a logical and action-oriented approach to support continuous improvement in business management and service delivery; and the Section 2 standards\, which support the active participation of persons served in the planning\, implementation\, and ongoing evaluation of the services offered\, as well as a commitment to quality outcomes. An overview of program standards is also included\, with discussion of practical examples of conformance.  Participants will have the opportunity to hear about examples and best practices for standards implementation\, connect with training faculty one-on-one\, and network and exchange insights with other provider participants.    \n\n\n\n\n\nA standards manual is highly recommended for this training. Event attendees will receive a coupon code for a 15% discount on CARF publications after registering for this event. Please contact your designated resource specialist if you are unsure which standards manual to purchase.  \n\n\n\n\n\nEach registrant will receive training materials and a link to resources and sample documents via email\, one week prior to the training event. For more information\, click on the Training Material tab. \n\n\n\n\n\nAll presentations and materials are provided in English.
URL:https://carf.org/training/carf-101-oct-22-achieving-maintaining-accreditation-opioid-treatment-programs/
LOCATION:Las Vegas\, NV\, Las Vegas\, Nevada\, United States
CATEGORIES:Opioid Treatment
ATTACH;FMTTYPE=image/jpeg:https://carf.org/wp-content/uploads/2026/02/101-graphic-AdobeStock_350968156-600x600-1.jpg
END:VEVENT
BEGIN:VEVENT
DTSTART;TZID=America/Phoenix:20261022T083000
DTEND;TZID=America/Phoenix:20261023T163000
DTSTAMP:20260423T073330
CREATED:20260126T172246Z
LAST-MODIFIED:20260211T223414Z
UID:10000151-1792657800-1792773000@carf.org
SUMMARY:CARF 101: Achieving and Maintaining Accreditation in Employment and Community Services
DESCRIPTION:Registration opens June 26\, 2026. \n\n\n\n\n\nThis two-day in-person session provides a solid foundation for organizations preparing for first-time CARF accreditation and those looking for a refresher. Participants will receive an introduction to CARF’s peer-review approach\, learn how to navigate the standards manual\, and gain valuable insights into the survey process and what to expect. \n\n\n\n\n\nThe training includes a comprehensive review of the standards that comprise the ASPIRE to Excellence® quality framework\, which reflects a logical and action-oriented approach to support continuous improvement in business management and service delivery; and the Section 2 standards\, which support the active participation of persons served in the planning\, implementation\, and ongoing evaluation of the services offered\, as well as a commitment to quality outcomes. An overview of program standards is also included\, with discussion of practical examples of conformance.  Participants will have the opportunity to hear about examples and best practices for standards implementation\, connect with training faculty one-on-one\, and network and exchange insights with other provider participants. \n\n\n\n\n\nA standards manual is highly recommended for this training. Event attendees will receive a coupon code for a 15% discount on CARF publications after registering for this event. Please contact your designated resource specialist if you are unsure which standards manual to purchase.  \n\n\n\n\n\nEach registrant will receive training materials and a link to resources and sample documents via email\, one week prior to the training event. For more information\, click on the Training Material tab. \n\n\n\n\n\nAll presentations and materials are provided in English.
URL:https://carf.org/training/carf-101-oct-22-achieving-maintaining-accreditation-employment-community-services/
LOCATION:Las Vegas\, NV\, Las Vegas\, Nevada\, United States
CATEGORIES:Employment and Community
ATTACH;FMTTYPE=image/jpeg:https://carf.org/wp-content/uploads/2026/02/101-graphic-AdobeStock_350968156-600x600-1.jpg
END:VEVENT
BEGIN:VEVENT
DTSTART;TZID=America/Phoenix:20261022T083000
DTEND;TZID=America/Phoenix:20261023T163000
DTSTAMP:20260423T073330
CREATED:20260126T172406Z
LAST-MODIFIED:20260211T223358Z
UID:10000152-1792657800-1792773000@carf.org
SUMMARY:CARF 101: Achieving and Maintaining Accreditation in Child and Youth Services
DESCRIPTION:Registration opens June 26\, 2026. \n\n\n\n\n\nThis two-day in-person session provides a solid foundation for organizations preparing for first-time CARF accreditation and those looking for a refresher. Participants will receive an introduction to CARF’s peer-review approach\, learn how to navigate the standards manual\, and gain valuable insights into the survey process and what to expect.    \n\n\n\n\n\nThe training includes a comprehensive review of the standards that comprise the ASPIRE to Excellence® quality framework\, which reflects a logical and action-oriented approach to support continuous improvement in business management and service delivery; and the Section 2 standards\, which support the active participation of persons served in the planning\, implementation\, and ongoing evaluation of the services offered\, as well as a commitment to quality outcomes. An overview of program standards is also included\, with discussion of practical examples of conformance.  Participants will have the opportunity to hear about examples and best practices for standards implementation\, connect with training faculty one-on-one\, and network and exchange insights with other provider participants.    \n\n\n\n\n\nA standards manual is highly recommended for this training. Event attendees will receive a coupon code for a 15% discount on CARF publications after registering for this event. Please contact your designated resource specialist if you are unsure which standards manual to purchase.  \n\n\n\n\n\nEach registrant will receive training materials and a link to resources and sample documents via email\, one week prior to the training event. For more information\, click on the Training Material tab. \n\n\n\n\n\nAll presentations and materials are provided in English.
URL:https://carf.org/training/carf-101-oct-22-achieving-maintaining-accreditation-child-and-youth-services/
LOCATION:Las Vegas\, NV\, Las Vegas\, Nevada\, United States
CATEGORIES:Child and Youth
ATTACH;FMTTYPE=image/jpeg:https://carf.org/wp-content/uploads/2026/02/101-graphic-AdobeStock_350968156-600x600-1.jpg
END:VEVENT
BEGIN:VEVENT
DTSTART;TZID=America/Phoenix:20261022T083000
DTEND;TZID=America/Phoenix:20261023T163000
DTSTAMP:20260423T073330
CREATED:20260126T172517Z
LAST-MODIFIED:20260211T223331Z
UID:10000153-1792657800-1792773000@carf.org
SUMMARY:CARF 101: Achieving and Maintaining Accreditation in Behavioral Health
DESCRIPTION:Registration opens June 26\, 2026. \n\n\n\n\n\nThis two-day in-person session provides a solid foundation for organizations preparing for first-time CARF accreditation and those looking for a refresher. Participants will receive an introduction to CARF’s peer-review approach\, learn how to navigate the standards manual\, and gain valuable insights into the survey process and what to expect.    \n\n\n\n\n\nThe training includes a comprehensive review of the standards that comprise the ASPIRE to Excellence® quality framework\, which reflects a logical and action-oriented approach to support continuous improvement in business management and service delivery; and the Section 2 standards\, which support the active participation of persons served in the planning\, implementation\, and ongoing evaluation of the services offered\, as well as a commitment to quality outcomes. An overview of program standards is also included\, with discussion of practical examples of conformance.  Participants will have the opportunity to hear about examples and best practices for standards implementation\, connect with training faculty one-on-one\, and network and exchange insights with other provider participants.    \n\n\n\n\n\nA standards manual is highly recommended for this training. Event attendees will receive a coupon code for a 15% discount on CARF publications after registering for this event. Please contact your designated resource specialist if you are unsure which standards manual to purchase.  \n\n\n\n\n\nEach registrant will receive training materials and a link to resources and sample documents via email\, one week prior to the training event. For more information\, click on the Training Material tab. \n\n\n\n\n\nAll presentations and materials are provided in English.
URL:https://carf.org/training/carf-101-oct-22-achieving-maintaining-accreditation-behavioral-health/
LOCATION:Las Vegas\, NV\, Las Vegas\, Nevada\, United States
CATEGORIES:Behavioral Health
ATTACH;FMTTYPE=image/jpeg:https://carf.org/wp-content/uploads/2026/02/101-graphic-AdobeStock_350968156-600x600-1.jpg
END:VEVENT
END:VCALENDAR